BEGIN:VCALENDAR
VERSION:2.0
CREATED:20260421T210129Z
PRODID:-//Select Water Solutions\, Inc./Equisolve Calendar v1.0//EN
METHOD:PUBLISH
BEGIN:VEVENT
UID:4e28baafa0480a173970671851046f99
DTSTAMP:20260422T120743Z
DTSTART:20260506T150000Z
DTEND:20260506T160000Z
SUMMARY:First Quarter 2026 Earnings Conference Call
DESCRIPTION:First Quarter 2026 Earnings Conference Call\nDate: May 6\, 2026 11:00 am EDT\nWebcast: https://app.webinar.net/EawxqVaMR9m
END:VEVENT
END:VCALENDAR
